Workbook

Sheet Start Here
B2: UGC Performance Tracker
B3: A free template by ViralDeck. Track every creator video, see what's working, and know what each view costs you.
B5: How to use it
B6: 1. Go to the Creators tab and add each creator once (name, handle, main platform, rate).
B7: 2. Go to the Videos tab and add one row per published video. Pick the creator and platform from the dropdowns.
B8: 3. Update Views, Likes, Comments, Shares and Saves on a fixed schedule. Once a week, same day, works best.
B9: 4. Open the Dashboard tab. Totals, engagement rate, CPM, the platform split and your top videos fill in automatically.
B11: Colour legend
B12: Grey cells are inputs. Type there.
B13: White cells are formulas. Leave them alone and they will keep working.
B14: The rows already filled in are sample data so you can see the format. Delete them when you start (Videos rows 5 to 12, Creators rows 5 to 8).
B16: What the metrics mean
... B26: Start a free trial at viraldeck.io

Sheet Dashboard
A1: Dashboard
A2: Everything here updates from the Videos and Creators tabs. Nothing to type.
A5: Videos tracked | B5: Total views | C5: Engagements | D5: Engagement rate | E5: Total spend | F5: CPM
A6: =COUNT(Videos!$F$5:$F$504) | B6: =SUM(Videos!$F$5:$F$504) | C6: =SUM(Videos!$M$5:$M$504) | D6: =IFERROR(C6/B6,0) | E6: =SUM(Videos!$K$5:$K$504) | F6: =IFERROR(SUMIFS(Videos!$K$5:$K$504,Videos!$K$5:$K$504,"<>")/SUMIFS(Videos!$F$5:$F$504,Videos!$K$5:$K$504,"<>")*1000,0) | G6: CPM only counts videos that have a cost.
A9: By platform
A10: Platform | B10: Videos | C10: Views | D10: Share of views | E10: Engagement rate | F10: Spend | G10: CPM
A11: TikTok | B11: =COUNTIFS(Videos!$C$5:$C$504,$A11,Videos!$F$5:$F$504,"<>") | C11: =SUMIFS(Videos!$F$5:$F$504,Videos!$C$5:$C$504,$A11) | D11: =IFERROR(C11/$B$6,0) | E11: =IFERROR(SUMIFS(Videos!$M$5:$M$504,Videos!$C$5:$C$504,$A11)/C11,0) | F11: =SUMIFS(Videos!$K$5:$K$504,Videos!$C$5:$C$504,$A11) | G11: =IFERROR(F11/SUMIFS(Videos!$F$5:$F$504,Videos!$C$5:$C$504,$A11,Videos!$K$5:$K$504,"<>")*1000,0)
A12: Instagram Reels | B12: =COUNTIFS(Videos!$C$5:$C$504,$A12,Videos!$F$5:$F$504,"<>") | C12: =SUMIFS(Videos!$F$5:$F$504,Videos!$C$5:$C$504,$A12) | D12: =IFERROR(C12/$B$6,0) | E12: =IFERROR(SUMIFS(Videos!$M$5:$M$504,Videos!$C$5:$C$504,$A12)/C12,0) | F12: =SUMIFS(Videos!$K$5:$K$504,Videos!$C$5:$C$504,$A12) | G12: =IFERROR(F12/SUMIFS(Videos!$F$5:$F$504,Videos!$C$5:$C$504,$A12,Videos!$K$5:$K$504,"<>")*1000,0)
A13: YouTube Shorts | B13: =COUNTIFS(Videos!$C$5:$C$504,$A13,Videos!$F$5:$F$504,"<>") | C13: =SUMIFS(Videos!$F$5:$F$504,Videos!$C$5:$C$504,$A13) | D13: =IFERROR(C13/$B$6,0) | E13: =IFERROR(SUMIFS(Videos!$M$5:$M$504,Videos!$C$5:$C$504,$A13)/C13,0) | F13: =SUMIFS(Videos!$K$5:$K$504,Videos!$C$5:$C$504,$A13) | G13: =IFERROR(F13/SUMIFS(Videos!$F$5:$F$504,Videos!$C$5:$C$504,$A13,Videos!$K$5:$K$504,"<>")*1000,0)
A14: Facebook Reels | B14: =COUNTIFS(Videos!$C$5:$C$504,$A14,Videos!$F$5:$F$504,"<>") | C14: =SUMIFS(Videos!$F$5:$F$504,Videos!$C$5:$C$504,$A14) | D14: =IFERROR(C14/$B$6,0) | E14: =IFERROR(SUMIFS(Videos!$M$5:$M$504,Videos!$C$5:$C$504,$A14)/C14,0) | F14: =SUMIFS(Videos!$K$5:$K$504,Videos!$C$5:$C$504,$A14) | G14: =IFERROR(F14/SUMIFS(Videos!$F$5:$F$504,Videos!$C$5:$C$504,$A14,Videos!$K$5:$K$504,"<>")*1000,0)
A17: Top 10 videos by views
A18: # | B18: Creator | C18: Platform | D18: Campaign | E18: Views | F18: Engagement rate | G18: CPM | H18: Video URL
A19: 1 | B19: =IFERROR(INDEX(Videos!$B$5:$B$504,MATCH(LARGE(Videos!$Q$5:$Q$504,$A19),Videos!$Q$5:$Q$504,0)),"") | C19: =IFERROR(INDEX(Videos!$C$5:$C$504,MATCH(LARGE(Videos!$Q$5:$Q$504,$A19),Videos!$Q$5:$Q$504,0)),"") | D19: =IFERROR(INDEX(Videos!$D$5:$D$504,MATCH(LARGE(Videos!$Q$5:$Q$504,$A19),Videos!$Q$5:$Q$504,0)),"") | E19: =IFERROR(INDEX(Videos!$F$5:$F$504,MATCH(LARGE(Videos!$Q$5:$Q$504,$A19),Videos!$Q$5:$Q$504,0)),"") | F19: =IFERROR(INDEX(Videos!$N$5:$N$504,MATCH(LARGE(Videos!$Q$5:$Q$504,$A19),Videos!$Q$5:$Q$504,0)),"") | G19: =IFERROR(INDEX(Videos!$O$5:$O$504,MATCH(LARGE(Videos!$Q$5:$Q$504,$A19),Videos!$Q$5:$Q$504,0)),"") | H19: =IFERROR(INDEX(Videos!$E$5:$E$504,MATCH(LARGE(Videos!$Q$5:$Q$504,$A19),Videos!$Q$5:$Q$504,0)),"")
A20: 2 | B20: =IFERROR(INDEX(Videos!$B$5:$B$504,MATCH(LARGE(Videos!$Q$5:$Q$504,$A20),Videos!$Q$5:$Q$504,0)),"") | C20: =IFERROR(INDEX(Videos!$C$5:$C$504,MATCH(LARGE(Videos!$Q$5:$Q$504,$A20),Videos!$Q$5:$Q$504,0)),"") | D20: =IFERROR(INDEX(Videos!$D$5:$D$504,MATCH(LARGE(Videos!$Q$5:$Q$504,$A20),Videos!$Q$5:$Q$504,0)),"") | E20: =IFERROR(INDEX(Videos!$F$5:$F$504,MATCH(LARGE(Videos!$Q$5:$Q$504,$A20),Videos!$Q$5:$Q$504,0)),"") | F20: =IFERROR(INDEX(Videos!$N$5:$N$504,MATCH(LARGE(Videos!$Q$5:$Q$504,$A20),Videos!$Q$5:$Q$504,0)),"") | G20: =IFERROR(INDEX(Videos!$O$5:$O$504,MATCH(LARGE(Videos!$Q$5:$Q$504,$A20),Videos!$Q$5:$Q$504,0)),"") | H20: =IFERROR(INDEX(Videos!$E$5:$E$504,MATCH(LARGE(Videos!$Q$5:$Q$504,$A20),Videos!$Q$5:$Q$504,0)),"")
A21: 3 | B21: =IFERROR(INDEX(Videos!$B$5:$B$504,MATCH(LARGE(Videos!$Q$5:$Q$504,$A21),Videos!$Q$5:$Q$504,0)),"") | C21: =IFERROR(INDEX(Videos!$C$5:$C$504,MATCH(LARGE(Videos!$Q$5:$Q$504,$A21),Videos!$Q$5:$Q$504,0)),"") | D21: =IFERROR(INDEX(Videos!$D$5:$D$504,MATCH(LARGE(Videos!$Q$5:$Q$504,$A21),Videos!$Q$5:$Q$504,0)),"") | E21: =IFERROR(INDEX(Videos!$F$5:$F$504,MATCH(LARGE(Videos!$Q$5:$Q$504,$A21),Videos!$Q$5:$Q$504,0)),"") | F21: =IFERROR(INDEX(Videos!$N$5:$N$504,MATCH(LARGE(Videos!$Q$5:$Q$504,$A21),Videos!$Q$5:$Q$504,0)),"") | G21: =IFERROR(INDEX(Videos!$O$5:$O$504,MATCH(LARGE(Videos!$Q$5:$Q$504,$A21),Videos!$Q$5:$Q$504,0)),"") | H21: =IFERROR(INDEX(Videos!$E$5:$E$504,MATCH(LARGE(Videos!$Q$5:$Q$504,$A21),Videos!$Q$5:$Q$504,0)),"")
A22: 4 | B22: =IFERROR(INDEX(Videos!$B$5:$B$504,MATCH(LARGE(Videos!$Q$5:$Q$504,$A22),Videos!$Q$5:$Q$504,0)),"") | C22: =IFERROR(INDEX(Videos!$C$5:$C$504,MATCH(LARGE(Videos!$Q$5:$Q$504,$A22),Videos!$Q$5:$Q$504,0)),"") | D22: =IFERROR(INDEX(Videos!$D$5:$D$504,MATCH(LARGE(Videos!$Q$5:$Q$504,$A22),Videos!$Q$5:$Q$504,0)),"") | E22: =IFERROR(INDEX(Videos!$F$5:$F$504,MATCH(LARGE(Videos!$Q$5:$Q$504,$A22),Videos!$Q$5:$Q$504,0)),"") | F22: =IFERROR(INDEX(Videos!$N$5:$N$504,MATCH(LARGE(Videos!$Q$5:$Q$504,$A22),Videos!$Q$5:$Q$504,0)),"") | G22: =IFERROR(INDEX(Videos!$O$5:$O$504,MATCH(LARGE(Videos!$Q$5:$Q$504,$A22),Videos!$Q$5:$Q$504,0)),"") | H22: =IFERROR(INDEX(Videos!$E$5:$E$504,MATCH(LARGE(Videos!$Q$5:$Q$504,$A22),Videos!$Q$5:$Q$504,0)),"")
A23: 5 | B23: =IFERROR(INDEX(Videos!$B$5:$B$504,MATCH(LARGE(Videos!$Q$5:$Q$504,$A23),Videos!$Q$5:$Q$504,0)),"") | C23: =IFERROR(INDEX(Videos!$C$5:$C$504,MATCH(LARGE(Videos!$Q$5:$Q$504,$A23),Videos!$Q$5:$Q$504,0)),"") | D23: =IFERROR(INDEX(Videos!$D$5:$D$504,MATCH(LARGE(Videos!$Q$5:$Q$504,$A23),Videos!$Q$5:$Q$504,0)),"") | E23: =IFERROR(INDEX(Videos!$F$5:$F$504,MATCH(LARGE(Videos!$Q$5:$Q$504,$A23),Videos!$Q$5:$Q$504,0)),"") | F23: =IFERROR(INDEX(Videos!$N$5:$N$504,MATCH(LARGE(Videos!$Q$5:$Q$504,$A23),Videos!$Q$5:$Q$504,0)),"") | G23: =IFERROR(INDEX(Videos!$O$5:$O$504,MATCH(LARGE(Videos!$Q$5:$Q$504,$A23),Videos!$Q$5:$Q$504,0)),"") | H23: =IFERROR(INDEX(Videos!$E$5:$E$504,MATCH(LARGE(Videos!$Q$5:$Q$504,$A23),Videos!$Q$5:$Q$504,0)),"")
A24: 6 | B24: =IFERROR(INDEX(Videos!$B$5:$B$504,MATCH(LARGE(Videos!$Q$5:$Q$504,$A24),Videos!$Q$5:$Q$504,0)),"") | C24: =IFERROR(INDEX(Videos!$C$5:$C$504,MATCH(LARGE(Videos!$Q$5:$Q$504,$A24),Videos!$Q$5:$Q$504,0)),"") | D24: =IFERROR(INDEX(Videos!$D$5:$D$504,MATCH(LARGE(Videos!$Q$5:$Q$504,$A24),Videos!$Q$5:$Q$504,0)),"") | E24: =IFERROR(INDEX(Videos!$F$5:$F$504,MATCH(LARGE(Videos!$Q$5:$Q$504,$A24),Videos!$Q$5:$Q$504,0)),"") | F24: =IFERROR(INDEX(Videos!$N$5:$N$504,MATCH(LARGE(Videos!$Q$5:$Q$504,$A24),Videos!$Q$5:$Q$504,0)),"") | G24: =IFERROR(INDEX(Videos!$O$5:$O$504,MATCH(LARGE(Videos!$Q$5:$Q$504,$A24),Videos!$Q$5:$Q$504,0)),"") | H24: =IFERROR(INDEX(Videos!$E$5:$E$504,MATCH(LARGE(Videos!$Q$5:$Q$504,$A24),Videos!$Q$5:$Q$504,0)),"")
A25: 7 | B25: =IFERROR(INDEX(Videos!$B$5:$B$504,MATCH(LARGE(Videos!$Q$5:$Q$504,$A25),Videos!$Q$5:$Q$504,0)),"") | C25: =IFERROR(INDEX(Videos!$C$5:$C$504,MATCH(LARGE(Videos!$Q$5:$Q$504,$A25),Videos!$Q$5:$Q$504,0)),"") | D25: =IFERROR(INDEX(Videos!$D$5:$D$504,MATCH(LARGE(Videos!$Q$5:$Q$504,$A25),Videos!$Q$5:$Q$504,0)),"") | E25: =IFERROR(INDEX(Videos!$F$5:$F$504,MATCH(LARGE(Videos!$Q$5:$Q$504,$A25),Videos!$Q$5:$Q$504,0)),"") | F25: =IFERROR(INDEX(Videos!$N$5:$N$504,MATCH(LARGE(Videos!$Q$5:$Q$504,$A25),Videos!$Q$5:$Q$504,0)),"") | G25: =IFERROR(INDEX(Videos!$O$5:$O$504,MATCH(LARGE(Videos!$Q$5:$Q$504,$A25),Videos!$Q$5:$Q$504,0)),"") | H25: =IFERROR(INDEX(Videos!$E$5:$E$504,MATCH(LARGE(Videos!$Q$5:$Q$504,$A25),Videos!$Q$5:$Q$504,0)),"")
A26: 8 | B26: =IFERROR(INDEX(Videos!$B$5:$B$504,MATCH(LARGE(Videos!$Q$5:$Q$504,$A26),Videos!$Q$5:$Q$504,0)),"") | C26: =IFERROR(INDEX(Videos!$C$5:$C$504,MATCH(LARGE(Videos!$Q$5:$Q$504,$A26),Videos!$Q$5:$Q$504,0)),"") | D26: =IFERROR(INDEX(Videos!$D$5:$D$504,MATCH(LARGE(Videos!$Q$5:$Q$504,$A26),Videos!$Q$5:$Q$504,0)),"") | E26: =IFERROR(INDEX(Videos!$F$5:$F$504,MATCH(LARGE(Videos!$Q$5:$Q$504,$A26),Videos!$Q$5:$Q$504,0)),"") | F26: =IFERROR(INDEX(Videos!$N$5:$N$504,MATCH(LARGE(Videos!$Q$5:$Q$504,$A26),Videos!$Q$5:$Q$504,0)),"") | G26: =IFERROR(INDEX(Videos!$O$5:$O$504,MATCH(LARGE(Videos!$Q$5:$Q$504,$A26),Videos!$Q$5:$Q$504,0)),"") | H26: =IFERROR(INDEX(Videos!$E$5:$E$504,MATCH(LARGE(Videos!$Q$5:$Q$504,$A26),Videos!$Q$5:$Q$504,0)),"")
A27: 9 | B27: =IFERROR(INDEX(Videos!$B$5:$B$504,MATCH(LARGE(Videos!$Q$5:$Q$504,$A27),Videos!$Q$5:$Q$504,0)),"") | C27: =IFERROR(INDEX(Videos!$C$5:$C$504,MATCH(LARGE(Videos!$Q$5:$Q$504,$A27),Videos!$Q$5:$Q$504,0)),"") | D27: =IFERROR(INDEX(Videos!$D$5:$D$504,MATCH(LARGE(Videos!$Q$5:$Q$504,$A27),Videos!$Q$5:$Q$504,0)),"") | E27: =IFERROR(INDEX(Videos!$F$5:$F$504,MATCH(LARGE(Videos!$Q$5:$Q$504,$A27),Videos!$Q$5:$Q$504,0)),"") | F27: =IFERROR(INDEX(Videos!$N$5:$N$504,MATCH(LARGE(Videos!$Q$5:$Q$504,$A27),Videos!$Q$5:$Q$504,0)),"") | G27: =IFERROR(INDEX(Videos!$O$5:$O$504,MATCH(LARGE(Videos!$Q$5:$Q$504,$A27),Videos!$Q$5:$Q$504,0)),"") | H27: =IFERROR(INDEX(Videos!$E$5:$E$504,MATCH(LARGE(Videos!$Q$5:$Q$504,$A27),Videos!$Q$5:$Q$504,0)),"")
A28: 10 | B28: =IFERROR(INDEX(Videos!$B$5:$B$504,MATCH(LARGE(Videos!$Q$5:$Q$504,$A28),Videos!$Q$5:$Q$504,0)),"") | C28: =IFERROR(INDEX(Videos!$C$5:$C$504,MATCH(LARGE(Videos!$Q$5:$Q$504,$A28),Videos!$Q$5:$Q$504,0)),"") | D28: =IFERROR(INDEX(Videos!$D$5:$D$504,MATCH(LARGE(Videos!$Q$5:$Q$504,$A28),Videos!$Q$5:$Q$504,0)),"") | E28: =IFERROR(INDEX(Videos!$F$5:$F$504,MATCH(LARGE(Videos!$Q$5:$Q$504,$A28),Videos!$Q$5:$Q$504,0)),"") | F28: =IFERROR(INDEX(Videos!$N$5:$N$504,MATCH(LARGE(Videos!$Q$5:$Q$504,$A28),Videos!$Q$5:$Q$504,0)),"") | G28: =IFERROR(INDEX(Videos!$O$5:$O$504,MATCH(LARGE(Videos!$Q$5:$Q$504,$A28),Videos!$Q$5:$Q$504,0)),"") | H28: =IFERROR(INDEX(Videos!$E$5:$E$504,MATCH(LARGE(Videos!$Q$5:$Q$504,$A28),Videos!$Q$5:$Q$504,0)),"")
A31: Top 5 creators by views
A32: # | B32: Creator | C32: Videos | D32: Total views | E32: Avg views / video | F32: Engagement rate | G32: CPM
A33: 1 | B33: =IFERROR(INDEX(Creators!$A$5:$A$104,MATCH(LARGE(Creators!$N$5:$N$104,$A33),Creators!$N$5:$N$104,0)),"") | C33: =IFERROR(INDEX(Creators!$F$5:$F$104,MATCH(LARGE(Creators!$N$5:$N$104,$A33),Creators!$N$5:$N$104,0)),"") | D33: =IFERROR(INDEX(Creators!$G$5:$G$104,MATCH(LARGE(Creators!$N$5:$N$104,$A33),Creators!$N$5:$N$104,0)),"") | E33: =IFERROR(INDEX(Creators!$H$5:$H$104,MATCH(LARGE(Creators!$N$5:$N$104,$A33),Creators!$N$5:$N$104,0)),"") | F33: =IFERROR(INDEX(Creators!$J$5:$J$104,MATCH(LARGE(Creators!$N$5:$N$104,$A33),Creators!$N$5:$N$104,0)),"") | G33: =IFERROR(INDEX(Creators!$L$5:$L$104,MATCH(LARGE(Creators!$N$5:$N$104,$A33),Creators!$N$5:$N$104,0)),"")
A34: 2 | B34: =IFERROR(INDEX(Creators!$A$5:$A$104,MATCH(LARGE(Creators!$N$5:$N$104,$A34),Creators!$N$5:$N$104,0)),"") | C34: =IFERROR(INDEX(Creators!$F$5:$F$104,MATCH(LARGE(Creators!$N$5:$N$104,$A34),Creators!$N$5:$N$104,0)),"") | D34: =IFERROR(INDEX(Creators!$G$5:$G$104,MATCH(LARGE(Creators!$N$5:$N$104,$A34),Creators!$N$5:$N$104,0)),"") | E34: =IFERROR(INDEX(Creators!$H$5:$H$104,MATCH(LARGE(Creators!$N$5:$N$104,$A34),Creators!$N$5:$N$104,0)),"") | F34: =IFERROR(INDEX(Creators!$J$5:$J$104,MATCH(LARGE(Creators!$N$5:$N$104,$A34),Creators!$N$5:$N$104,0)),"") | G34: =IFERROR(INDEX(Creators!$L$5:$L$104,MATCH(LARGE(Creators!$N$5:$N$104,$A34),Creators!$N$5:$N$104,0)),"")
A35: 3 | B35: =IFERROR(INDEX(Creators!$A$5:$A$104,MATCH(LARGE(Creators!$N$5:$N$104,$A35),Creators!$N$5:$N$104,0)),"") | C35: =IFERROR(INDEX(Creators!$F$5:$F$104,MATCH(LARGE(Creators!$N$5:$N$104,$A35),Creators!$N$5:$N$104,0)),"") | D35: =IFERROR(INDEX(Creators!$G$5:$G$104,MATCH(LARGE(Creators!$N$5:$N$104,$A35),Creators!$N$5:$N$104,0)),"") | E35: =IFERROR(INDEX(Creators!$H$5:$H$104,MATCH(LARGE(Creators!$N$5:$N$104,$A35),Creators!$N$5:$N$104,0)),"") | F35: =IFERROR(INDEX(Creators!$J$5:$J$104,MATCH(LARGE(Creators!$N$5:$N$104,$A35),Creators!$N$5:$N$104,0)),"") | G35: =IFERROR(INDEX(Creators!$L$5:$L$104,MATCH(LARGE(Creators!$N$5:$N$104,$A35),Creators!$N$5:$N$104,0)),"")
A36: 4 | B36: =IFERROR(INDEX(Creators!$A$5:$A$104,MATCH(LARGE(Creators!$N$5:$N$104,$A36),Creators!$N$5:$N$104,0)),"") | C36: =IFERROR(INDEX(Creators!$F$5:$F$104,MATCH(LARGE(Creators!$N$5:$N$104,$A36),Creators!$N$5:$N$104,0)),"") | D36: =IFERROR(INDEX(Creators!$G$5:$G$104,MATCH(LARGE(Creators!$N$5:$N$104,$A36),Creators!$N$5:$N$104,0)),"") | E36: =IFERROR(INDEX(Creators!$H$5:$H$104,MATCH(LARGE(Creators!$N$5:$N$104,$A36),Creators!$N$5:$N$104,0)),"") | F36: =IFERROR(INDEX(Creators!$J$5:$J$104,MATCH(LARGE(Creators!$N$5:$N$104,$A36),Creators!$N$5:$N$104,0)),"") | G36: =IFERROR(INDEX(Creators!$L$5:$L$104,MATCH(LARGE(Creators!$N$5:$N$104,$A36),Creators!$N$5:$N$104,0)),"")
A37: 5 | B37: =IFERROR(INDEX(Creators!$A$5:$A$104,MATCH(LARGE(Creators!$N$5:$N$104,$A37),Creators!$N$5:$N$104,0)),"") | C37: =IFERROR(INDEX(Creators!$F$5:$F$104,MATCH(LARGE(Creators!$N$5:$N$104,$A37),Creators!$N$5:$N$104,0)),"") | D37: =IFERROR(INDEX(Creators!$G$5:$G$104,MATCH(LARGE(Creators!$N$5:$N$104,$A37),Creators!$N$5:$N$104,0)),"") | E37: =IFERROR(INDEX(Creators!$H$5:$H$104,MATCH(LARGE(Creators!$N$5:$N$104,$A37),Creators!$N$5:$N$104,0)),"") | F37: =IFERROR(INDEX(Creators!$J$5:$J$104,MATCH(LARGE(Creators!$N$5:$N$104,$A37),Creators!$N$5:$N$104,0)),"") | G37: =IFERROR(INDEX(Creators!$L$5:$L$104,MATCH(LARGE(Creators!$N$5:$N$104,$A37),Creators!$N$5:$N$104,0)),"")
A40: Want this to update itself? ViralDeck pulls views, likes and new videos for every creator daily. Free trial at viraldeck.io

Sheet Videos
A1: Videos
A2: One row per published video. Update the numbers on a fixed schedule (weekly works). Grey = input, white = formula.
A4: Date posted | B4: Creator | C4: Platform | D4: Campaign | E4: Video URL | F4: Views | G4: Likes | H4: Comments | I4: Shares | J4: Saves | K4: Cost | L4: Last updated | M4: Engagements | N4: Engagement rate | O4: CPM | P4: Notes | Q4: _rank
A5: 46267 | B5: Maya Reyes | C5: TikTok | D5: Fall launch | E5: https://www.tiktok.com/@maya.makes/video/0000000000000000001 | F5: 184200 | G5: 12650 | H5: 341 | I5: 905 | J5: 1220 | K5: 250 | L5: 46295 | M5: =IF($F5="","",SUM(G5:J5)) | N5: =IF(OR($F5="",$F5=0),"",M5/F5) | O5: =IF(OR($F5="",$F5=0,$K5=""),"",K5/F5*1000) | Q5: =IF($F5="","",F5+ROW()/1000000)
A6: 46269 | B6: Jordan Lee | C6: Instagram Reels | D6: Fall launch | E6: https://www.instagram.com/reel/EXAMPLE01/ | F6: 42800 | G6: 2210 | H6: 96 | I6: 180 | J6: 402 | K6: 300 | L6: 46295 | M6: =IF($F6="","",SUM(G6:J6)) | N6: =IF(OR($F6="",$F6=0),"",M6/F6) | O6: =IF(OR($F6="",$F6=0,$K6=""),"",K6/F6*1000) | Q6: =IF($F6="","",F6+ROW()/1000000)
A7: 46270 | B7: Priya Shah | C7: YouTube Shorts | D7: Fall launch | E7: https://www.youtube.com/shorts/EXAMPLE001 | F7: 23150 | G7: 980 | H7: 41 | I7: 22 | J7: 0 | K7: 200 | L7: 46295 | M7: =IF($F7="","",SUM(G7:J7)) | N7: =IF(OR($F7="",$F7=0),"",M7/F7) | O7: =IF(OR($F7="",$F7=0,$K7=""),"",K7/F7*1000) | Q7: =IF($F7="","",F7+ROW()/1000000)
A8: 46274 | B8: Tom Becker | C8: TikTok | D8: Fall launch | E8: https://www.tiktok.com/@tombecker/video/0000000000000000002 | F8: 6900 | G8: 310 | H8: 12 | I8: 9 | J8: 25 | K8: 150 | L8: 46295 | M8: =IF($F8="","",SUM(G8:J8)) | N8: =IF(OR($F8="",$F8=0),"",M8/F8) | O8: =IF(OR($F8="",$F8=0,$K8=""),"",K8/F8*1000) | Q8: =IF($F8="","",F8+ROW()/1000000)
A9: 46277 | B9: Maya Reyes | C9: Instagram Reels | D9: Fall launch | E9: https://www.instagram.com/reel/EXAMPLE02/ | F9: 31400 | G9: 1840 | H9: 77 | I9: 140 | J9: 260 | K9: 250 | L9: 46295 | M9: =IF($F9="","",SUM(G9:J9)) | N9: =IF(OR($F9="",$F9=0),"",M9/F9) | O9: =IF(OR($F9="",$F9=0,$K9=""),"",K9/F9*1000) | Q9: =IF($F9="","",F9+ROW()/1000000)
A10: 46281 | B10: Jordan Lee | C10: Instagram Reels | D10: Always-on | E10: https://www.instagram.com/reel/EXAMPLE03/ | F10: 12900 | G10: 640 | H10: 18 | I10: 35 | J10: 88 | K10: 300 | L10: 46295 | M10: =IF($F10="","",SUM(G10:J10)) | N10: =IF(OR($F10="",$F10=0),"",M10/F10) | O10: =IF(OR($F10="",$F10=0,$K10=""),"",K10/F10*1000) | Q10: =IF($F10="","",F10+ROW()/1000000)
A11: 46284 | B11: Tom Becker | C11: Facebook Reels | D11: Always-on | E11: https://www.facebook.com/reel/0000000000000001 | F11: 9800 | G11: 205 | H11: 14 | I11: 31 | J11: 0 | K11: 150 | L11: 46295 | M11: =IF($F11="","",SUM(G11:J11)) | N11: =IF(OR($F11="",$F11=0),"",M11/F11) | O11: =IF(OR($F11="",$F11=0,$K11=""),"",K11/F11*1000) | Q11: =IF($F11="","",F11+ROW()/1000000)
A12: 46288 | B12: Maya Reyes | C12: TikTok | D12: Always-on | E12: https://www.tiktok.com/@maya.makes/video/0000000000000000003 | F12: 512300 | G12: 41020 | H12: 1288 | I12: 3870 | J12: 5410 | K12: 250 | L12: 46295 | M12: =IF($F12="","",SUM(G12:J12)) | N12: =IF(OR($F12="",$F12=0),"",M12/F12) | O12: =IF(OR($F12="",$F12=0,$K12=""),"",K12/F12*1000) | Q12: =IF($F12="","",F12+ROW()/1000000)
M13: =IF($F13="","",SUM(G13:J13)) | N13: =IF(OR($F13="",$F13=0),"",M13/F13) | O13: =IF(OR($F13="",$F13=0,$K13=""),"",K13/F13*1000) | Q13: =IF($F13="","",F13+ROW()/1000000)
M14: =IF($F14="","",SUM(G14:J14)) | N14: =IF(OR($F14="",$F14=0),"",M14/F14) | O14: =IF(OR($F14="",$F14=0,$K14=""),"",K14/F14*1000) | Q14: =IF($F14="","",F14+ROW()/1000000)
M15: =IF($F15="","",SUM(G15:J15)) | N15: =IF(OR($F15="",$F15=0),"",M15/F15) | O15: =IF(OR($F15="",$F15=0,$K15=""),"",K15/F15*1000) | Q15: =IF($F15="","",F15+ROW()/1000000)
M16: =IF($F16="","",SUM(G16:J16)) | N16: =IF(OR($F16="",$F16=0),"",M16/F16) | O16: =IF(OR($F16="",$F16=0,$K16=""),"",K16/F16*1000) | Q16: =IF($F16="","",F16+ROW()/1000000)
M17: =IF($F17="","",SUM(G17:J17)) | N17: =IF(OR($F17="",$F17=0),"",M17/F17) | O17: =IF(OR($F17="",$F17=0,$K17=""),"",K17/F17*1000) | Q17: =IF($F17="","",F17+ROW()/1000000)
M18: =IF($F18="","",SUM(G18:J18)) | N18: =IF(OR($F18="",$F18=0),"",M18/F18) | O18: =IF(OR($F18="",$F18=0,$K18=""),"",K18/F18*1000) | Q18: =IF($F18="","",F18+ROW()/1000000)
M19: =IF($F19="","",SUM(G19:J19)) | N19: =IF(OR($F19="",$F19=0),"",M19/F19) | O19: =IF(OR($F19="",$F19=0,$K19=""),"",K19/F19*1000) | Q19: =IF($F19="","",F19+ROW()/1000000)
M20: =IF($F20="","",SUM(G20:J20)) | N20: =IF(OR($F20="",$F20=0),"",M20/F20) | O20: =IF(OR($F20="",$F20=0,$K20=""),"",K20/F20*1000) | Q20: =IF($F20="","",F20+ROW()/1000000)
M21: =IF($F21="","",SUM(G21:J21)) | N21: =IF(OR($F21="",$F21=0),"",M21/F21) | O21: =IF(OR($F21="",$F21=0,$K21=""),"",K21/F21*1000) | Q21: =IF($F21="","",F21+ROW()/1000000)
M22: =IF($F22="","",SUM(G22:J22)) | N22: =IF(OR($F22="",$F22=0),"",M22/F22) | O22: =IF(OR($F22="",$F22=0,$K22=""),"",K22/F22*1000) | Q22: =IF($F22="","",F22+ROW()/1000000)
M23: =IF($F23="","",SUM(G23:J23)) | N23: =IF(OR($F23="",$F23=0),"",M23/F23) | O23: =IF(OR($F23="",$F23=0,$K23=""),"",K23/F23*1000) | Q23: =IF($F23="","",F23+ROW()/1000000)
M24: =IF($F24="","",SUM(G24:J24)) | N24: =IF(OR($F24="",$F24=0),"",M24/F24) | O24: =IF(OR($F24="",$F24=0,$K24=""),"",K24/F24*1000) | Q24: =IF($F24="","",F24+ROW()/1000000)
... M504: =IF($F504="","",SUM(G504:J504)) | N504: =IF(OR($F504="",$F504=0),"",M504/F504) | O504: =IF(OR($F504="",$F504=0,$K504=""),"",K504/F504*1000) | Q504: =IF($F504="","",F504+ROW()/1000000)

Sheet Creators
A1: Creators
A2: One row per creator. Grey columns are yours to fill in, white columns calculate from the Videos tab.
A4: Creator | B4: Handle | C4: Main platform | D4: Rate per video | E4: Contact / notes | F4: Videos | G4: Total views | H4: Avg views / video | I4: Engagements | J4: Engagement rate | K4: Total cost | L4: CPM | M4: Best video (views) | N4: _rank
A5: Maya Reyes | B5: @maya.makes | C5: TikTok | D5: 250 | E5: maya@example.com | F5: =IF($A5="","",COUNTIFS(Videos!$B$5:$B$504,$A5)) | G5: =IF($A5="","",SUMIFS(Videos!$F$5:$F$504,Videos!$B$5:$B$504,$A5)) | H5: =IF(OR($A5="",F5=0),"",G5/F5) | I5: =IF($A5="","",SUMIFS(Videos!$M$5:$M$504,Videos!$B$5:$B$504,$A5)) | J5: =IF(OR($A5="",G5=0),"",I5/G5) | K5: =IF($A5="","",SUMIFS(Videos!$K$5:$K$504,Videos!$B$5:$B$504,$A5)) | L5: =IF(OR($A5="",G5=0,K5=0),"",K5/G5*1000) | M5: =IF(OR($A5="",F5=0),"",_xlfn.MAXIFS(Videos!$F$5:$F$504,Videos!$B$5:$B$504,$A5)) | N5: =IF(OR($A5="",G5=0),"",G5+ROW()/1000000)
A6: Jordan Lee | B6: @jordanlee.ugc | C6: Instagram Reels | D6: 300 | E6: Agency: Northside | F6: =IF($A6="","",COUNTIFS(Videos!$B$5:$B$504,$A6)) | G6: =IF($A6="","",SUMIFS(Videos!$F$5:$F$504,Videos!$B$5:$B$504,$A6)) | H6: =IF(OR($A6="",F6=0),"",G6/F6) | I6: =IF($A6="","",SUMIFS(Videos!$M$5:$M$504,Videos!$B$5:$B$504,$A6)) | J6: =IF(OR($A6="",G6=0),"",I6/G6) | K6: =IF($A6="","",SUMIFS(Videos!$K$5:$K$504,Videos!$B$5:$B$504,$A6)) | L6: =IF(OR($A6="",G6=0,K6=0),"",K6/G6*1000) | M6: =IF(OR($A6="",F6=0),"",_xlfn.MAXIFS(Videos!$F$5:$F$504,Videos!$B$5:$B$504,$A6)) | N6: =IF(OR($A6="",G6=0),"",G6+ROW()/1000000)
A7: Priya Shah | B7: @priyatries | C7: YouTube Shorts | D7: 200 | F7: =IF($A7="","",COUNTIFS(Videos!$B$5:$B$504,$A7)) | G7: =IF($A7="","",SUMIFS(Videos!$F$5:$F$504,Videos!$B$5:$B$504,$A7)) | H7: =IF(OR($A7="",F7=0),"",G7/F7) | I7: =IF($A7="","",SUMIFS(Videos!$M$5:$M$504,Videos!$B$5:$B$504,$A7)) | J7: =IF(OR($A7="",G7=0),"",I7/G7) | K7: =IF($A7="","",SUMIFS(Videos!$K$5:$K$504,Videos!$B$5:$B$504,$A7)) | L7: =IF(OR($A7="",G7=0,K7=0),"",K7/G7*1000) | M7: =IF(OR($A7="",F7=0),"",_xlfn.MAXIFS(Videos!$F$5:$F$504,Videos!$B$5:$B$504,$A7)) | N7: =IF(OR($A7="",G7=0),"",G7+ROW()/1000000)
A8: Tom Becker | B8: @tombecker | C8: TikTok | D8: 150 | E8: Paid per video | F8: =IF($A8="","",COUNTIFS(Videos!$B$5:$B$504,$A8)) | G8: =IF($A8="","",SUMIFS(Videos!$F$5:$F$504,Videos!$B$5:$B$504,$A8)) | H8: =IF(OR($A8="",F8=0),"",G8/F8) | I8: =IF($A8="","",SUMIFS(Videos!$M$5:$M$504,Videos!$B$5:$B$504,$A8)) | J8: =IF(OR($A8="",G8=0),"",I8/G8) | K8: =IF($A8="","",SUMIFS(Videos!$K$5:$K$504,Videos!$B$5:$B$504,$A8)) | L8: =IF(OR($A8="",G8=0,K8=0),"",K8/G8*1000) | M8: =IF(OR($A8="",F8=0),"",_xlfn.MAXIFS(Videos!$F$5:$F$504,Videos!$B$5:$B$504,$A8)) | N8: =IF(OR($A8="",G8=0),"",G8+ROW()/1000000)
F9: =IF($A9="","",COUNTIFS(Videos!$B$5:$B$504,$A9)) | G9: =IF($A9="","",SUMIFS(Videos!$F$5:$F$504,Videos!$B$5:$B$504,$A9)) | H9: =IF(OR($A9="",F9=0),"",G9/F9) | I9: =IF($A9="","",SUMIFS(Videos!$M$5:$M$504,Videos!$B$5:$B$504,$A9)) | J9: =IF(OR($A9="",G9=0),"",I9/G9) | K9: =IF($A9="","",SUMIFS(Videos!$K$5:$K$504,Videos!$B$5:$B$504,$A9)) | L9: =IF(OR($A9="",G9=0,K9=0),"",K9/G9*1000) | M9: =IF(OR($A9="",F9=0),"",_xlfn.MAXIFS(Videos!$F$5:$F$504,Videos!$B$5:$B$504,$A9)) | N9: =IF(OR($A9="",G9=0),"",G9+ROW()/1000000)
F10: =IF($A10="","",COUNTIFS(Videos!$B$5:$B$504,$A10)) | G10: =IF($A10="","",SUMIFS(Videos!$F$5:$F$504,Videos!$B$5:$B$504,$A10)) | H10: =IF(OR($A10="",F10=0),"",G10/F10) | I10: =IF($A10="","",SUMIFS(Videos!$M$5:$M$504,Videos!$B$5:$B$504,$A10)) | J10: =IF(OR($A10="",G10=0),"",I10/G10) | K10: =IF($A10="","",SUMIFS(Videos!$K$5:$K$504,Videos!$B$5:$B$504,$A10)) | L10: =IF(OR($A10="",G10=0,K10=0),"",K10/G10*1000) | M10: =IF(OR($A10="",F10=0),"",_xlfn.MAXIFS(Videos!$F$5:$F$504,Videos!$B$5:$B$504,$A10)) | N10: =IF(OR($A10="",G10=0),"",G10+ROW()/1000000)
F11: =IF($A11="","",COUNTIFS(Videos!$B$5:$B$504,$A11)) | G11: =IF($A11="","",SUMIFS(Videos!$F$5:$F$504,Videos!$B$5:$B$504,$A11)) | H11: =IF(OR($A11="",F11=0),"",G11/F11) | I11: =IF($A11="","",SUMIFS(Videos!$M$5:$M$504,Videos!$B$5:$B$504,$A11)) | J11: =IF(OR($A11="",G11=0),"",I11/G11) | K11: =IF($A11="","",SUMIFS(Videos!$K$5:$K$504,Videos!$B$5:$B$504,$A11)) | L11: =IF(OR($A11="",G11=0,K11=0),"",K11/G11*1000) | M11: =IF(OR($A11="",F11=0),"",_xlfn.MAXIFS(Videos!$F$5:$F$504,Videos!$B$5:$B$504,$A11)) | N11: =IF(OR($A11="",G11=0),"",G11+ROW()/1000000)
F12: =IF($A12="","",COUNTIFS(Videos!$B$5:$B$504,$A12)) | G12: =IF($A12="","",SUMIFS(Videos!$F$5:$F$504,Videos!$B$5:$B$504,$A12)) | H12: =IF(OR($A12="",F12=0),"",G12/F12) | I12: =IF($A12="","",SUMIFS(Videos!$M$5:$M$504,Videos!$B$5:$B$504,$A12)) | J12: =IF(OR($A12="",G12=0),"",I12/G12) | K12: =IF($A12="","",SUMIFS(Videos!$K$5:$K$504,Videos!$B$5:$B$504,$A12)) | L12: =IF(OR($A12="",G12=0,K12=0),"",K12/G12*1000) | M12: =IF(OR($A12="",F12=0),"",_xlfn.MAXIFS(Videos!$F$5:$F$504,Videos!$B$5:$B$504,$A12)) | N12: =IF(OR($A12="",G12=0),"",G12+ROW()/1000000)
F13: =IF($A13="","",COUNTIFS(Videos!$B$5:$B$504,$A13)) | G13: =IF($A13="","",SUMIFS(Videos!$F$5:$F$504,Videos!$B$5:$B$504,$A13)) | H13: =IF(OR($A13="",F13=0),"",G13/F13) | I13: =IF($A13="","",SUMIFS(Videos!$M$5:$M$504,Videos!$B$5:$B$504,$A13)) | J13: =IF(OR($A13="",G13=0),"",I13/G13) | K13: =IF($A13="","",SUMIFS(Videos!$K$5:$K$504,Videos!$B$5:$B$504,$A13)) | L13: =IF(OR($A13="",G13=0,K13=0),"",K13/G13*1000) | M13: =IF(OR($A13="",F13=0),"",_xlfn.MAXIFS(Videos!$F$5:$F$504,Videos!$B$5:$B$504,$A13)) | N13: =IF(OR($A13="",G13=0),"",G13+ROW()/1000000)
F14: =IF($A14="","",COUNTIFS(Videos!$B$5:$B$504,$A14)) | G14: =IF($A14="","",SUMIFS(Videos!$F$5:$F$504,Videos!$B$5:$B$504,$A14)) | H14: =IF(OR($A14="",F14=0),"",G14/F14) | I14: =IF($A14="","",SUMIFS(Videos!$M$5:$M$504,Videos!$B$5:$B$504,$A14)) | J14: =IF(OR($A14="",G14=0),"",I14/G14) | K14: =IF($A14="","",SUMIFS(Videos!$K$5:$K$504,Videos!$B$5:$B$504,$A14)) | L14: =IF(OR($A14="",G14=0,K14=0),"",K14/G14*1000) | M14: =IF(OR($A14="",F14=0),"",_xlfn.MAXIFS(Videos!$F$5:$F$504,Videos!$B$5:$B$504,$A14)) | N14: =IF(OR($A14="",G14=0),"",G14+ROW()/1000000)
F15: =IF($A15="","",COUNTIFS(Videos!$B$5:$B$504,$A15)) | G15: =IF($A15="","",SUMIFS(Videos!$F$5:$F$504,Videos!$B$5:$B$504,$A15)) | H15: =IF(OR($A15="",F15=0),"",G15/F15) | I15: =IF($A15="","",SUMIFS(Videos!$M$5:$M$504,Videos!$B$5:$B$504,$A15)) | J15: =IF(OR($A15="",G15=0),"",I15/G15) | K15: =IF($A15="","",SUMIFS(Videos!$K$5:$K$504,Videos!$B$5:$B$504,$A15)) | L15: =IF(OR($A15="",G15=0,K15=0),"",K15/G15*1000) | M15: =IF(OR($A15="",F15=0),"",_xlfn.MAXIFS(Videos!$F$5:$F$504,Videos!$B$5:$B$504,$A15)) | N15: =IF(OR($A15="",G15=0),"",G15+ROW()/1000000)
F16: =IF($A16="","",COUNTIFS(Videos!$B$5:$B$504,$A16)) | G16: =IF($A16="","",SUMIFS(Videos!$F$5:$F$504,Videos!$B$5:$B$504,$A16)) | H16: =IF(OR($A16="",F16=0),"",G16/F16) | I16: =IF($A16="","",SUMIFS(Videos!$M$5:$M$504,Videos!$B$5:$B$504,$A16)) | J16: =IF(OR($A16="",G16=0),"",I16/G16) | K16: =IF($A16="","",SUMIFS(Videos!$K$5:$K$504,Videos!$B$5:$B$504,$A16)) | L16: =IF(OR($A16="",G16=0,K16=0),"",K16/G16*1000) | M16: =IF(OR($A16="",F16=0),"",_xlfn.MAXIFS(Videos!$F$5:$F$504,Videos!$B$5:$B$504,$A16)) | N16: =IF(OR($A16="",G16=0),"",G16+ROW()/1000000)
F17: =IF($A17="","",COUNTIFS(Videos!$B$5:$B$504,$A17)) | G17: =IF($A17="","",SUMIFS(Videos!$F$5:$F$504,Videos!$B$5:$B$504,$A17)) | H17: =IF(OR($A17="",F17=0),"",G17/F17) | I17: =IF($A17="","",SUMIFS(Videos!$M$5:$M$504,Videos!$B$5:$B$504,$A17)) | J17: =IF(OR($A17="",G17=0),"",I17/G17) | K17: =IF($A17="","",SUMIFS(Videos!$K$5:$K$504,Videos!$B$5:$B$504,$A17)) | L17: =IF(OR($A17="",G17=0,K17=0),"",K17/G17*1000) | M17: =IF(OR($A17="",F17=0),"",_xlfn.MAXIFS(Videos!$F$5:$F$504,Videos!$B$5:$B$504,$A17)) | N17: =IF(OR($A17="",G17=0),"",G17+ROW()/1000000)
F18: =IF($A18="","",COUNTIFS(Videos!$B$5:$B$504,$A18)) | G18: =IF($A18="","",SUMIFS(Videos!$F$5:$F$504,Videos!$B$5:$B$504,$A18)) | H18: =IF(OR($A18="",F18=0),"",G18/F18) | I18: =IF($A18="","",SUMIFS(Videos!$M$5:$M$504,Videos!$B$5:$B$504,$A18)) | J18: =IF(OR($A18="",G18=0),"",I18/G18) | K18: =IF($A18="","",SUMIFS(Videos!$K$5:$K$504,Videos!$B$5:$B$504,$A18)) | L18: =IF(OR($A18="",G18=0,K18=0),"",K18/G18*1000) | M18: =IF(OR($A18="",F18=0),"",_xlfn.MAXIFS(Videos!$F$5:$F$504,Videos!$B$5:$B$504,$A18)) | N18: =IF(OR($A18="",G18=0),"",G18+ROW()/1000000)
F19: =IF($A19="","",COUNTIFS(Videos!$B$5:$B$504,$A19)) | G19: =IF($A19="","",SUMIFS(Videos!$F$5:$F$504,Videos!$B$5:$B$504,$A19)) | H19: =IF(OR($A19="",F19=0),"",G19/F19) | I19: =IF($A19="","",SUMIFS(Videos!$M$5:$M$504,Videos!$B$5:$B$504,$A19)) | J19: =IF(OR($A19="",G19=0),"",I19/G19) | K19: =IF($A19="","",SUMIFS(Videos!$K$5:$K$504,Videos!$B$5:$B$504,$A19)) | L19: =IF(OR($A19="",G19=0,K19=0),"",K19/G19*1000) | M19: =IF(OR($A19="",F19=0),"",_xlfn.MAXIFS(Videos!$F$5:$F$504,Videos!$B$5:$B$504,$A19)) | N19: =IF(OR($A19="",G19=0),"",G19+ROW()/1000000)
F20: =IF($A20="","",COUNTIFS(Videos!$B$5:$B$504,$A20)) | G20: =IF($A20="","",SUMIFS(Videos!$F$5:$F$504,Videos!$B$5:$B$504,$A20)) | H20: =IF(OR($A20="",F20=0),"",G20/F20) | I20: =IF($A20="","",SUMIFS(Videos!$M$5:$M$504,Videos!$B$5:$B$504,$A20)) | J20: =IF(OR($A20="",G20=0),"",I20/G20) | K20: =IF($A20="","",SUMIFS(Videos!$K$5:$K$504,Videos!$B$5:$B$504,$A20)) | L20: =IF(OR($A20="",G20=0,K20=0),"",K20/G20*1000) | M20: =IF(OR($A20="",F20=0),"",_xlfn.MAXIFS(Videos!$F$5:$F$504,Videos!$B$5:$B$504,$A20)) | N20: =IF(OR($A20="",G20=0),"",G20+ROW()/1000000)
... F104: =IF($A104="","",COUNTIFS(Videos!$B$5:$B$504,$A104)) | G104: =IF($A104="","",SUMIFS(Videos!$F$5:$F$504,Videos!$B$5:$B$504,$A104)) | H104: =IF(OR($A104="",F104=0),"",G104/F104) | I104: =IF($A104="","",SUMIFS(Videos!$M$5:$M$504,Videos!$B$5:$B$504,$A104)) | J104: =IF(OR($A104="",G104=0),"",I104/G104) | K104: =IF($A104="","",SUMIFS(Videos!$K$5:$K$504,Videos!$B$5:$B$504,$A104)) | L104: =IF(OR($A104="",G104=0,K104=0),"",K104/G104*1000) | M104: =IF(OR($A104="",F104=0),"",_xlfn.MAXIFS(Videos!$F$5:$F$504,Videos!$B$5:$B$504,$A104)) | N104: =IF(OR($A104="",G104=0),"",G104+ROW()/1000000)
